BEGIN:VCALENDAR
VERSION:2.0
PRODID:-//jEvents 2.0 for Joomla//EN
CALSCALE:GREGORIAN
METHOD:PUBLISH
BEGIN:VEVENT
UID:3443149cbb33d0e27b12f525dc682e9f
CATEGORIES:Club Events
CREATED:20191124T135550
SUMMARY:DKW Owners Club Höck
LOCATION:Rest. Pflug Othmarsingen
DESCRIPTION:
DTSTAMP:20260420T203806
DTSTART;VALUE=DATE:20200710
DTEND;VALUE=DATE:20200711
SEQUENCE:0
TRANSP:OPAQUE
END:VEVENT
END:VCALENDAR