BEGIN:VCALENDAR
VERSION:2.0
PRODID:-//jEvents 2.0 for Joomla//EN
CALSCALE:GREGORIAN
METHOD:PUBLISH
BEGIN:VEVENT
UID:b884ce3fb12e2791d516a9308804caf3
CATEGORIES:Club Events
CREATED:20191124T140002
SUMMARY:DKW Owners Club Schraubertag. Muss leider aus aktuellem Grund abgesagt werden.
DESCRIPTION:
DTSTAMP:20260420T195947
DTSTART;VALUE=DATE:20200516
DTEND;VALUE=DATE:20200517
SEQUENCE:0
TRANSP:OPAQUE
END:VEVENT
END:VCALENDAR