BEGIN:VCALENDAR
VERSION:2.0
PRODID:-//jEvents 2.0 for Joomla//EN
CALSCALE:GREGORIAN
METHOD:PUBLISH
BEGIN:VEVENT
UID:2fda7fbebdca807cebe6284c1a629b65
CATEGORIES:Club Events
CREATED:20191124T140159
SUMMARY:DKW Owners Club Internationales Audi 100 Coupé S Treffen in Altstätten. Leider aus aktuellem Grund verschoben auf 15.5.2021
DESCRIPTION:
DTSTAMP:20260420T194934
DTSTART;VALUE=DATE:20200523
DTEND;VALUE=DATE:20200524
SEQUENCE:0
TRANSP:OPAQUE
END:VEVENT
END:VCALENDAR