BEGIN:VCALENDAR
VERSION:2.0
PRODID:-//jEvents 2.0 for Joomla//EN
CALSCALE:GREGORIAN
METHOD:PUBLISH
BEGIN:VEVENT
UID:ba58f91f82a865dd5f7ba5549df57a2e
CATEGORIES:Club Events
CREATED:20191124T140325
SUMMARY:DKW Owners Club Pfingsttreffen. Muss leider aus aktuellem Grund abgesagt werden.
DESCRIPTION:
DTSTAMP:20260420T195947
DTSTART;VALUE=DATE:20200531
DTEND;VALUE=DATE:20200601
SEQUENCE:0
TRANSP:OPAQUE
END:VEVENT
END:VCALENDAR