BEGIN:VCALENDAR
VERSION:2.0
PRODID:-//jEvents 2.0 for Joomla//EN
CALSCALE:GREGORIAN
METHOD:PUBLISH
BEGIN:VEVENT
UID:738fe01942defa1e355be0e5729099ae
CATEGORIES:Club Events
CREATED:20191124T141320
SUMMARY:DKW OC Generalversammlung, leider aus aktuellem Grund abgesagt!
DESCRIPTION:<p>Aus schwerem Herzen müssen wir, gestützt auf die Bundesrätliche Verordnu
 ng zur Bekämpfung des Coronavirus , unsere Generalverammlung absagen. Einen
  Ersatztermin werden wir Termingerecht veröffentlichen.</p>
DTSTAMP:20260420T195947
DTSTART:20200417T193000
DTEND:20200417T230000
SEQUENCE:0
TRANSP:OPAQUE
END:VEVENT
END:VCALENDAR