BEGIN:VCALENDAR
VERSION:2.0
PRODID:-//jEvents 2.0 for Joomla//EN
CALSCALE:GREGORIAN
METHOD:PUBLISH
BEGIN:VEVENT
UID:2f0c9b803d2f14b0ec6c27916af3f28d
CATEGORIES:Club Events
CREATED:20191124T141433
SUMMARY:DKW Owners Club Höck. Zum Schutz unserer Mitglieder wird leider aus aktuellem Grund dieser Event auch noch abgesagt.
LOCATION:Rest. Pflug Othmarsingen
DESCRIPTION:
DTSTAMP:20260420T195947
DTSTART;VALUE=DATE:20200619
DTEND;VALUE=DATE:20200620
SEQUENCE:0
TRANSP:OPAQUE
END:VEVENT
END:VCALENDAR