BEGIN:VCALENDAR
VERSION:2.0
PRODID:-//jEvents 2.0 for Joomla//EN
CALSCALE:GREGORIAN
METHOD:PUBLISH
BEGIN:VEVENT
UID:a46bbe3c1f47c311973aa9886505133c
CATEGORIES:Club Events
CREATED:20191124T141621
SUMMARY:DKW Owners Club 47. Internationales Auto Union Veteranen Treffen in Rotenburg/Fulda. Musste leider von dem Veranstalter aus aktuellem Grund abgesagt werden (verschoben auf 2021).
DESCRIPTION:
DTSTAMP:20260420T195554
DTSTART;VALUE=DATE:20200813
DTEND;VALUE=DATE:20200817
SEQUENCE:0
TRANSP:OPAQUE
END:VEVENT
END:VCALENDAR