BEGIN:VCALENDAR
VERSION:2.0
PRODID:-//jEvents 2.0 for Joomla//EN
CALSCALE:GREGORIAN
METHOD:PUBLISH
BEGIN:VEVENT
UID:bf329ba45a4e4ecd07d301b7fb67b415
CATEGORIES:Club Events
CREATED:20191124T141749
SUMMARY:DKW Owners Club (Mini)-Generalversammlung mit Grill
LOCATION:Restaurant Vier Linden Bötzberg
DESCRIPTION:
DTSTAMP:20260420T195921
DTSTART;VALUE=DATE:20200828
DTEND;VALUE=DATE:20200829
SEQUENCE:0
TRANSP:OPAQUE
END:VEVENT
END:VCALENDAR