BEGIN:VCALENDAR
VERSION:2.0
PRODID:-//jEvents 2.0 for Joomla//EN
CALSCALE:GREGORIAN
METHOD:PUBLISH
BEGIN:VEVENT
UID:20fbd79b7044c31aee085cf2727bbb68
CATEGORIES:Club Events
CREATED:20191124T141852
SUMMARY:DKW Owners Club Herbstausfahrt
DESCRIPTION:
DTSTAMP:20260420T195017
DTSTART;VALUE=DATE:20200919
DTEND;VALUE=DATE:20200921
SEQUENCE:0
TRANSP:OPAQUE
END:VEVENT
END:VCALENDAR