BEGIN:VCALENDAR
VERSION:2.0
PRODID:-//jEvents 2.0 for Joomla//EN
CALSCALE:GREGORIAN
METHOD:PUBLISH
BEGIN:VEVENT
UID:df50bf47afe39d6ff1005f2a3d235d5d
CATEGORIES:Club Events
CREATED:20200604T213001
SUMMARY:DKW Ausfahrt
DESCRIPTION:Wird organisiert von Beat Bruhin und Andreas Lüscher\n
X-ALT-DESC;FMTTYPE=text/html:<p>Wird organisiert von Beat Bruhin und Andreas Lüscher</p>
DTSTAMP:20260420T194203
DTSTART:20200815T080000
DTEND:20200815T170000
SEQUENCE:0
TRANSP:OPAQUE
END:VEVENT
END:VCALENDAR